BEGIN:VCALENDAR
VERSION:2.0
PRODID:www.sfj105.org
BEGIN:VEVENT
UID:69e73cc2a8e7e
DTSTART:20160819T160000Z
SEQUENCE:0
TRANSP:OPAQUE
DTEND:20160820T000000Z
LOCATION:St. Francis YC
SUMMARY:Aldo Allesio
CLASS:PUBLIC
DESCRIPTION:B Season\, Weigh-in not required\, Ocean Race
DTSTAMP:20260421T090050Z
END:VEVENT
END:VCALENDAR