BEGIN:VCALENDAR
VERSION:2.0
PRODID:www.sfj105.org
BEGIN:VEVENT
UID:69e73ca1691ec
DTSTART:20160716T160000Z
SEQUENCE:0
TRANSP:OPAQUE
DTEND:20160718T000000Z
LOCATION:South Beach YC
SUMMARY:Bay Bridge Regatta
CLASS:PUBLIC
DESCRIPTION:B Season\, Weigh-in not required\, URL: www.regattanetwork.com/
 event/12743
DTSTAMP:20260421T090017Z
END:VEVENT
END:VCALENDAR