BEGIN:VCALENDAR
VERSION:2.0
PRODID:www.sfj105.org
BEGIN:VEVENT
UID:69e73c6e8fec6
DTSTART:20160618T160000Z
SEQUENCE:0
TRANSP:OPAQUE
DTEND:20160620T000000Z
LOCATION:San Francisco YC
SUMMARY:June Invitational
CLASS:PUBLIC
DESCRIPTION:A Season\, Weigh-in  required
DTSTAMP:20260421T085926Z
END:VEVENT
END:VCALENDAR