BEGIN:VCALENDAR
VERSION:2.0
PRODID:www.sfj105.org
BEGIN:VEVENT
UID:69e73c686b46c
DTSTART:20160709T160000Z
SEQUENCE:0
TRANSP:OPAQUE
DTEND:20160710T000000Z
LOCATION:Sequoia YC
SUMMARY:Westpoint Regatta
CLASS:PUBLIC
DESCRIPTION:B Season\, Weigh-in not required\, Contact Richard Butts for de
 tails\, URL: http://www.westpointregatta.com
DTSTAMP:20260421T085920Z
END:VEVENT
END:VCALENDAR