BEGIN:VCALENDAR
VERSION:2.0
PRODID:www.sfj105.org
BEGIN:VEVENT
UID:69e4d66158b3d
DTSTART:20160109T170000Z
SEQUENCE:0
TRANSP:OPAQUE
DTEND:20160214T010000Z
LOCATION:St. Francis YC
SUMMARY:RegattaPRO Midwinters
CLASS:PUBLIC
DESCRIPTION:B Season\, Weigh-in not required\, 11/14/15\, 12/12/15\, 1/9/16
 \, 2/13/16\, URL: http://www.regattapro.com/regattas.html
DTSTAMP:20260419T131929Z
END:VEVENT
END:VCALENDAR