BEGIN:VCALENDAR
VERSION:2.0
PRODID:www.sfj105.org
BEGIN:VEVENT
UID:69e73c0327f65
DTSTART:20160116T170000Z
SEQUENCE:0
TRANSP:OPAQUE
DTEND:20160117T010000Z
LOCATION:Corinthian YC
SUMMARY:Corinthian Midwinters
CLASS:PUBLIC
DESCRIPTION:B Season\, Weigh-in not required\, 1/16\, 1/17\, 2/20\, and 2/2
 1\, URL: http://www.regattanetwork.com/event/11521
DTSTAMP:20260421T085739Z
END:VEVENT
END:VCALENDAR