BEGIN:VCALENDAR
VERSION:2.0
PRODID:www.sfj105.org
BEGIN:VEVENT
UID:69e73c1ad4111
DTSTART:20160130T170000Z
SEQUENCE:0
TRANSP:OPAQUE
DTEND:20161231T010000Z
LOCATION:Singlehanded Sailing Society
SUMMARY:Three Bridge Fiasco
CLASS:PUBLIC
DESCRIPTION:B Season\, Weigh-in not required\, URL: http://sfbaysss.org/mai
 n/
DTSTAMP:20260421T085802Z
END:VEVENT
END:VCALENDAR