BEGIN:VCALENDAR
VERSION:2.0
PRODID:www.sfj105.org
BEGIN:VEVENT
UID:69e73ca1a6edd
DTSTART:20161022T160000Z
SEQUENCE:0
TRANSP:OPAQUE
DTEND:20161024T000000Z
LOCATION:San Francisco YC
SUMMARY:Leukemia Cup
CLASS:PUBLIC
DESCRIPTION:B Season\, Weigh-in not required\, URL: http://www.sfyc.org/Def
 ault.aspx?p=dynamicmodule&pageid=380137&ssid=297402&vnf=1
DTSTAMP:20260421T090017Z
END:VEVENT
END:VCALENDAR