BEGIN:VCALENDAR
VERSION:2.0
PRODID:www.sfj105.org
BEGIN:VEVENT
UID:69e73c6f78fc6
DTSTART:20160915T160000Z
SEQUENCE:0
TRANSP:OPAQUE
DTEND:20160919T000000Z
LOCATION:St. Francis YC
SUMMARY:Rolex Big Boat Series
CLASS:PUBLIC
DESCRIPTION:A Season\, Weigh-in  required
DTSTAMP:20260421T085927Z
END:VEVENT
END:VCALENDAR