BEGIN:VCALENDAR
VERSION:2.0
PRODID:www.sfj105.org
BEGIN:VEVENT
UID:69e73c7d24d6e
DTSTART:20160723T160000Z
SEQUENCE:0
TRANSP:OPAQUE
DTEND:20160725T000000Z
LOCATION:Sausalito YC
SUMMARY:SYC J/105 Invitational
CLASS:PUBLIC
DESCRIPTION:A Season\, Weigh-in not required\, URL: https://sausalitoyachtc
 lub.org/racing/2016-race-schedule/
DTSTAMP:20260421T085941Z
END:VEVENT
END:VCALENDAR