BEGIN:VCALENDAR
VERSION:2.0
PRODID:www.sfj105.org
BEGIN:VEVENT
UID:69e73c7cab04d
DTSTART:20160514T160000Z
SEQUENCE:0
TRANSP:OPAQUE
DTEND:20160516T000000Z
LOCATION:St. Francis YC
SUMMARY:J/105 Series Stopover
CLASS:PUBLIC
DESCRIPTION:A Season\, Weigh-in not required\, Please note scores apply to 
 season standings. Regatta results can be found at: https://www.regattatool
 box.com/results.html?eventID=lNNcOLWe4y\n
DTSTAMP:20260421T085940Z
END:VEVENT
END:VCALENDAR