BEGIN:VCALENDAR
VERSION:2.0
PRODID:www.sfj105.org
BEGIN:VEVENT
UID:69e73ca11a519
DTSTART:20160430T160000Z
SEQUENCE:0
TRANSP:OPAQUE
DTEND:20160502T000000Z
LOCATION:Richmond YC
SUMMARY:The Great Vallejo Race
CLASS:PUBLIC
DESCRIPTION:B Season\, Weigh-in not required\, URL: https://www.jibeset.net
 /YRA000.php?RG=T00475098
DTSTAMP:20260421T090017Z
END:VEVENT
END:VCALENDAR