BEGIN:VCALENDAR
VERSION:2.0
PRODID:www.sfj105.org
BEGIN:VEVENT
UID:69e73ca22c791
DTSTART:20160416T160000Z
SEQUENCE:0
TRANSP:OPAQUE
DTEND:20160418T000000Z
LOCATION:St. Francis YC
SUMMARY:J/Fest
CLASS:PUBLIC
DESCRIPTION:A Season\, Weigh-in not required\, B-Season scored separately o
 n Saturday
DTSTAMP:20260421T090018Z
END:VEVENT
END:VCALENDAR