BEGIN:VCALENDAR
VERSION:2.0
PRODID:www.sfj105.org
BEGIN:VEVENT
UID:69e7396d6c7e6
DTSTART:20160402T160000Z
SEQUENCE:0
TRANSP:OPAQUE
DTEND:20160404T000000Z
LOCATION:San Francisco YC
SUMMARY:Resin Regatta
CLASS:PUBLIC
DESCRIPTION:A Season\, Weigh-in not required
DTSTAMP:20260421T084637Z
END:VEVENT
END:VCALENDAR