BEGIN:VCALENDAR
VERSION:2.0
PRODID:www.sfj105.org
BEGIN:VEVENT
UID:69e7351e0dd80
DTSTART:20090404T160000Z
SEQUENCE:0
TRANSP:OPAQUE
DTEND:20090406T000000Z
LOCATION:St. Francis YC
SUMMARY:J/Fest
CLASS:PUBLIC
DESCRIPTION:A Season\, Weigh-in not required\, URL: https://event-manager.c
 ompete-at.com/Manager/event/documents.do?eid=1105
DTSTAMP:20260421T082814Z
END:VEVENT
END:VCALENDAR