BEGIN:VCALENDAR
VERSION:2.0
PRODID:www.sfj105.org
BEGIN:VEVENT
UID:69e7354147ff6
DTSTART:20090313T160000Z
SEQUENCE:0
TRANSP:OPAQUE
DTEND:20090316T000000Z
LOCATION:St. Francis YC
SUMMARY:Dave Perry Seminars
CLASS:PUBLIC
DESCRIPTION:A Season\, Weigh-in not required\, 3/13 @ 1800 StFYC<br/>\n3/14
  @ 0900 StFYC<br/>\n3/15 @ 1330 CPYC\, URL: http://www.sfj105.org/content/
 fleetnotices/2009/Dave%20Perry%202009%20-%20Flyer.pdf
DTSTAMP:20260421T082849Z
END:VEVENT
END:VCALENDAR